BEGIN:VCALENDAR
VERSION:2.0
PRODID:-//wp-events-plugin.com//7.2.3.1//EN
BEGIN:VEVENT
UID:65@thubelihle.org
DTSTART:20251030T220000Z
DTEND:20251105T220000Z
DTSTAMP:20251103T122240Z
URL:https://thubelihle.org/events/youth-support-programme-youth-farmers/
SUMMARY:Youth Support Programme\; Youth Farmers
DESCRIPTION:
ATTACH;FMTTYPE=image/jpeg:https://thubelihle.org/wp-content/uploads/2025/1
 1/FB_IMG_1762161846922.jpg
CATEGORIES:General Events
LOCATION:Centre for Financial Inclusion\, Manzini\, Manzini\, Eswatini\, M2
 02\, Manzini\, Swaziland
GEO:-26.497374;31.367035
X-APPLE-STRUCTURED-LOCATION;VALUE=URI;X-ADDRESS=Manzini\, Manzini\, Eswatin
 i\, M202\, Manzini\, Swaziland;X-APPLE-RADIUS=100;X-TITLE=Centre for Finan
 cial Inclusion:geo:-26.497374,31.367035
END:VEVENT
END:VCALENDAR