BEGIN:VCALENDAR
VERSION:2.0
PRODID:-//wp-events-plugin.com//7.2.3.1//EN
BEGIN:VEVENT
UID:67@thubelihle.org
DTSTART:20251118T080000Z
DTEND:20251118T090000Z
DTSTAMP:20251110T102058Z
URL:https://thubelihle.org/events/permission-to-dream-careers-youth/
SUMMARY:Permission to Dream
DESCRIPTION:This month\, we are celebrating Global Career Month\, initiated
  by the Inter-Agency Career Guidance Working Group (IAG CGWG) (https://www
 .skillsforemployment.org/iagevent). Join us and @Limor Davidson Shabtai in
  a webinar on our journey of building meaningful career paths for our yout
 h in Eswatini -\nRegistrar here to receive the Zoom Link: https://forms.gl
 e/WWpdJC3yKbBwcFT58
ATTACH;FMTTYPE=image/jpeg:https://thubelihle.org/wp-content/uploads/2025/1
 1/AIG.jpg
CATEGORIES:Workshop
LOCATION:https://forms.gle/WWpdJC3yKbBwcFT58
END:VEVENT
END:VCALENDAR