BEGIN:VCALENDAR
VERSION:2.0
PRODID:-//wp-events-plugin.com//7.2.3.1//EN
BEGIN:VEVENT
UID:81@thubelihle.org
DTSTART:20260528T220000Z
DTEND:20260530T220000Z
DTSTAMP:20260114T120947Z
URL:https://thubelihle.org/events/mtn-bushfire-festival-2/
SUMMARY:MTN BUSHFIRE FESTIVAL
DESCRIPTION:
ATTACH;FMTTYPE=image/jpeg:https://thubelihle.org/wp-content/uploads/2026/0
 1/BushFire.jpg
CATEGORIES:Festival
LOCATION:Malandelas Malkerns\, 1st Avenue\, Matsapha\, Eswatini\, M202\, Ma
 nzini\, Swaziland
GEO:-26.505326;31.301332
X-APPLE-STRUCTURED-LOCATION;VALUE=URI;X-ADDRESS=1st Avenue\, Matsapha\, Esw
 atini\, M202\, Manzini\, Swaziland;X-APPLE-RADIUS=100;X-TITLE=Malandelas M
 alkerns:geo:-26.505326,31.301332
END:VEVENT
END:VCALENDAR