BEGIN:VCALENDAR
VERSION:2.0
PRODID:-//wp-events-plugin.com//7.2.3.1//EN
BEGIN:VEVENT
UID:56@thubelihle.org
DTSTART;VALUE=DATE:20250621
DTEND;VALUE=DATE:20250622
DTSTAMP:20260107T181422Z
URL:https://thubelihle.org/events/fete-de-la-musique/
SUMMARY:Fete de la musique
DESCRIPTION:Fete de la musique is day of music\, celebrating the art of mus
 ic and the various genres of music. It's symbol of oneness where we all co
 nnect through a universal language "MUSIC" and we have created a theme for
  this year's event: "A journey through musical genres"\, invites audiences
  to embark on a musical journey that celebrates the diversity of global mu
 sic. From classical to contemporary\, jazz to electronic\, this theme high
 lights the rich variety of genres that shape our world\, offering a dynami
 c experience that bridges cultures and connects people through the univers
 al language of music.
ATTACH;FMTTYPE=image/jpeg:https://thubelihle.org/wp-content/uploads/2025/0
 6/thubelihle-FDLM.jpg
CATEGORIES:Festival
LOCATION:In Mbabane\, behind the Ministry of Education\, Alliance Francaise
  de Mbabane\, behind the ministry of education.\, Mbabane\, Eswatini\, H10
 0\, Hhohho\, Swaziland
GEO:-26.332096;31.140618
X-APPLE-STRUCTURED-LOCATION;VALUE=URI;X-ADDRESS=Alliance Francaise de Mbaba
 ne\, behind the ministry of education.\, Mbabane\, Eswatini\, H100\, Hhohh
 o\, Swaziland;X-APPLE-RADIUS=100;X-TITLE=In Mbabane\, behind the Ministry 
 of Education:geo:-26.332096,31.140618
END:VEVENT
END:VCALENDAR