BEGIN:VCALENDAR
VERSION:2.0
PRODID:-//wp-events-plugin.com//7.2.3.1//EN
BEGIN:VEVENT
UID:5@thubelihle.org
DTSTART:20250101T070000Z
DTEND:20251201T130000Z
DTSTAMP:20250329T114505Z
URL:https://thubelihle.org/event-recurring/ezulwini-farmers-market/
SUMMARY:Ezulwini Farmer's Market
DESCRIPTION:The Ezulwini Farmer’s Market\, launched in 2023\, is a vibran
 t monthly event held on the second Saturday of each month\, except in Dece
 mber. It offers the community a chance to shop for fresh farm produce\, ha
 ndmade crafts\, and a variety of unique goods. Join us from 9 AM to 3 PM f
 or a lively market experience!
ATTACH;FMTTYPE=image/jpeg:https://thubelihle.org/wp-content/uploads/2025/0
 3/Ezulwini-Farmers-Market-2025.jpg
CATEGORIES:Farmers Market
LOCATION:Legends Shared\, 2 Tivakashi St\, Lobamba H106\, Eswatini\, Ezulwi
 ni\, H106\, Hohho\, Swaziland
GEO:-26.438783;31.183593
X-APPLE-STRUCTURED-LOCATION;VALUE=URI;X-ADDRESS=2 Tivakashi St\, Lobamba H1
 06\, Eswatini\, Ezulwini\, H106\, Hohho\, Swaziland;X-APPLE-RADIUS=100;X-T
 ITLE=Legends Shared:geo:-26.438783,31.183593
END:VEVENT
END:VCALENDAR