BEGIN:VCALENDAR
VERSION:2.0
PRODID:-//wp-events-plugin.com//7.2.3.1//EN
BEGIN:VEVENT
UID:64@thubelihle.org
DTSTART:20251031T220000Z
DTEND:20251129T220000Z
DTSTAMP:20251103T122009Z
URL:https://thubelihle.org/events/call-for-applications-broiler-chicks-gra
 nt-for-youth-farmers/
SUMMARY:Call for Applications: Broiler Chicks Grant For Youth Farmers
DESCRIPTION:
ATTACH;FMTTYPE=image/jpeg:https://thubelihle.org/wp-content/uploads/2025/1
 1/FB_IMG_1762161838301.jpg
CATEGORIES:General Events
END:VEVENT
END:VCALENDAR