BEGIN:VCALENDAR
VERSION:2.0
PRODID:-//wp-events-plugin.com//7.2.3.1//EN
BEGIN:VEVENT
UID:63@thubelihle.org
DTSTART:20251106T070000Z
DTEND:20251106T110000Z
DTSTAMP:20251103T121002Z
URL:https://thubelihle.org/events/build-your-career-from-nothing-workshop/
SUMMARY:Build Your Career from Nothing Workshop
DESCRIPTION:Register: https://forms.gle/7wcKqgbdmzwrbJ8w5
ATTACH;FMTTYPE=image/jpeg:https://thubelihle.org/wp-content/uploads/2025/1
 1/Copy-of-Workshop-poster.jpg
CATEGORIES:Workshop
LOCATION:Nhloso Likusasa Letfu\, Shop 14\, Matsapha Business Centre\,\, Mat
 sapha\, Eswatini\, M202\, Manzini\, Swaziland
GEO:-26.500948;31.314129
X-APPLE-STRUCTURED-LOCATION;VALUE=URI;X-ADDRESS=Shop 14\, Matsapha Business
  Centre\,\, Matsapha\, Eswatini\, M202\, Manzini\, Swaziland;X-APPLE-RADIU
 S=100;X-TITLE=Nhloso Likusasa Letfu:geo:-26.500948,31.314129
END:VEVENT
END:VCALENDAR