BEGIN:VCALENDAR
VERSION:2.0
PRODID:-//wp-events-plugin.com//7.2.3.1//EN
BEGIN:VEVENT
UID:66@thubelihle.org
DTSTART:20251030T220000Z
DTEND:20251105T220000Z
DTSTAMP:20251103T130908Z
URL:https://thubelihle.org/events/become-a-youth-ambassador/
SUMMARY:Become A Youth Ambassador
DESCRIPTION:
ATTACH;FMTTYPE=image/jpeg:https://thubelihle.org/wp-content/uploads/2025/1
 1/FB_IMG_1762161887071-1.jpg
CATEGORIES:General Events
LOCATION:Youth Sustainable Development Centre\, Mbabane\, Mbabane\, Eswatin
 i\, H100\, Hhohho\, Swaziland
GEO:-26.326356;31.144156
X-APPLE-STRUCTURED-LOCATION;VALUE=URI;X-ADDRESS=Mbabane\, Mbabane\, Eswatin
 i\, H100\, Hhohho\, Swaziland;X-APPLE-RADIUS=100;X-TITLE=Youth Sustainable
  Development Centre:geo:-26.326356,31.144156
END:VEVENT
END:VCALENDAR