BEGIN:VCALENDAR
VERSION:2.0
PRODID:-//wp-events-plugin.com//7.2.3.1//EN
BEGIN:VEVENT
UID:80@thubelihle.org
DTSTART:20260131T080000Z
DTEND:20260131T130000Z
DTSTAMP:20260114T105703Z
URL:https://thubelihle.org/events/1billionrising-eswatini-festival/
SUMMARY:1BILLIONRISING ESWATINI FESTIVAL
DESCRIPTION:Theme: Rising for our bodies\, our Earth and our Future!
ATTACH;FMTTYPE=image/jpeg:https://thubelihle.org/wp-content/uploads/2026/0
 1/WhatsApp-Image-2026-01-12-at-9.18.38-AM.jpeg
CATEGORIES:Social Impact &amp; Philanthropy | Digital Fundraising | Global
 Changemakers
LOCATION:University of Eswatini\, Kwaluseni Campus\, M202\, Matsapha\, M202
 \, Manzini\, Swaziland
GEO:-26.500948;31.314129
X-APPLE-STRUCTURED-LOCATION;VALUE=URI;X-ADDRESS=M202\, Matsapha\, M202\, Ma
 nzini\, Swaziland;X-APPLE-RADIUS=100;X-TITLE=University of Eswatini\, Kwal
 useni Campus:geo:-26.500948,31.314129
END:VEVENT
END:VCALENDAR